BEGIN:VCALENDAR
VERSION:2.0
PRODID:-//hacksw/handcal//NONSGML v1.0//EN
CALSCALE:GREGORIAN
BEGIN:VEVENT
ORGANIZER;CN=Zevra Therapeutics:MAILTO:no-reply@mail.gcs-web.com
DTEND:
UID:fb3c3db5-c9ee-41ce-a452-0e8f3e40bfd6
DTSTAMP:1777045246
LOCATION:https://event.on24.com/wcc/r/5301280/710C1620805D7A3468F04AB2E611BF78
DESCRIPTION:Event Details https://investors.zevra.com/events/event-details/zevra-therapeutics-q1-2026-earnings-call\n\nWebcast: https://event.on24.com/wcc/r/5301280/710C1620805D7A3468F04AB2E611BF78
URL;VALUE=URI:https://event.on24.com/wcc/r/5301280/710C1620805D7A3468F04AB2E611BF78
SUMMARY:Zevra Therapeutics - Zevra Therapeutics Q1 2026 Earnings Call
DTSTART:20260506T203000Z
END:VEVENT
END:VCALENDAR